View In:
ArcGIS JavaScript
ArcGIS Online Map Viewer
Service Description: GeocacheDybdedata
Name: Geocache_UTM33_EUREF89/GeocacheDybdedata
Description: Sammenhengende modell av havbunn og land for norske kyst- og havområder langs fastlandet, cachet som høydetiles for bruk som grunnflate i 3D-scener. Dybdene er fra Kartverkets dybdemodeller (5, 25 og 50 m), med GEBCO der Kartverket ikke har data, og landet er fra terrengmodellen. Dybdene er regnet om til NN2000, samme høydereferanse som på land. Koordinatsystem: ETRS 1989 UTM Zone 33N (EPSG:25833). Dokumentasjon finnes <a href='https://dokumentasjon.geodataonline.no/servicename?geocachedybdedata' target='_blank'>her</a>.
Single Fused Map Cache: true
Tile Info:
- Height: 256
- Width: 256
- DPI: 96
-
Levels of Detail: 13
- Format: LERC
- Compression Quality: 0.0
- LERC Error: 0.05
- Origin: X: -2500000.0
Y: 9045984.0
- Spatial Reference: 25833
(25833)
LatestVCSWkid(0)
Storage Info:
- Storage Format: esriMapCacheStorageModeCompactV2
- Packet Size: 128
Extent:
XMin: -100210
YMin: 6399800
XMax: 1150200
YMax: 7950210
Spatial Reference: 25833
(25833)
LatestVCSWkid(0)
Initial Extent:
XMin: -100210
YMin: 6399800
XMax: 1150200
YMax: 7950210
Spatial Reference: 25833
(25833)
LatestVCSWkid(0)
Full Extent:
XMin: -100210
YMin: 6399800
XMax: 1150200
YMax: 7950210
Spatial Reference: 25833
(25833)
LatestVCSWkid(0)
Pixel Size X: 10
Pixel Size Y: 10
Band Count: 1
Pixel Type: F32
RasterFunction Infos: {
"rasterFunctionInfos": []
}
Mensuration Capabilities: Basic
Inspection Capabilities:
Has Histograms: true
Has Colormap: false
Has Multi Dimensions : false
Rendering Rule:
Min Scale: 81920000
Max Scale: 2500
Copyright Text: ©️ Geodata AS, Kartverket, GEBCO Compilation Group, Geovekst og kommunene
Service Data Type: esriImageServiceDataTypeGeneric
Min Values: N/A
Max Values: N/A
Mean Values: N/A
Standard Deviation Values: N/A
Object ID Field:
Fields:
-
OBJECTID
(
type: esriFieldTypeOID, alias: OBJECTID
)
-
Shape
(
type: esriFieldTypeGeometry, alias: Shape
)
-
Name
(
type: esriFieldTypeString, alias: Name, length: 200
)
-
MinPS
(
type: esriFieldTypeDouble, alias: MinPS
)
-
MaxPS
(
type: esriFieldTypeDouble, alias: MaxPS
)
-
LowPS
(
type: esriFieldTypeDouble, alias: LowPS
)
-
HighPS
(
type: esriFieldTypeDouble, alias: HighPS
)
-
Category
(
type: esriFieldTypeInteger, alias: Category
,
Coded Values:
[0: Unknown]
,
[1: Primary]
,
[2: Overview]
, ...6 more...
)
-
Tag
(
type: esriFieldTypeString, alias: Tag, length: 100
)
-
GroupName
(
type: esriFieldTypeString, alias: GroupName, length: 100
)
-
ProductName
(
type: esriFieldTypeString, alias: ProductName, length: 100
)
-
CenterX
(
type: esriFieldTypeDouble, alias: CenterX
)
-
CenterY
(
type: esriFieldTypeDouble, alias: CenterY
)
-
ZOrder
(
type: esriFieldTypeInteger, alias: ZOrder
)
-
Shape_Length
(
type: esriFieldTypeDouble, alias: Shape_Length
)
-
Shape_Area
(
type: esriFieldTypeDouble, alias: Shape_Area
)
Default Mosaic Method: Center
Allowed Mosaic Methods:
SortField:
SortValue: null
Mosaic Operator: First
Default Compression Quality: 10000
Default Resampling Method: Nearest
Max Record Count: 1000
Max Image Height: 15000
Max Image Width: 15000
Max Download Image Count: 20
Max Mosaic Image Count: 50
Allow Raster Function: true
Allow Copy: true
Allow Analysis: true
Allow Compute TiePoints: false
Supports Statistics: false
Supports Advanced Queries: false
Use StandardizedQueries: true
Raster Type Infos:
Name: Raster Dataset
Description: Supports all ArcGIS Raster Datasets
Help:
Has Raster Attribute Table: false
Edit Fields Info: null
Ownership Based AccessControl For Rasters: null
Child Resources:
Info
Key Properties
Legend
Raster Function Infos
Supported Operations:
Validate
Project