{
  "currentVersion": 11.5,
  "sortableFields": "",
  "bandCount": 1,
  "pixelType": "F32",
  "minValues": -80.900001525879,
  "maxValues": 2465.8999023438,
  "meanValues": 368.77047166546,
  "stdvValues": 405.81124093682,
  "allowedFields": "Name,MinPS,MaxPS,LowPS,HighPS,Tag,GroupName,ProductName,CenterX,CenterY,ZOrder,Shape_Length,Shape_Area,las_project_id,las_project_name,objtype,oppdragsgiver,dekningsnummer,fkb_laserstandard,flyfirma,type,prioritet,tilgang,prosjektnr,koordinatsystem,hoydesystem,punkttetthet,aarstall,sisteflydato,rapport,x_min,x_max,y_min,y_max,opplosning,published_date,leverandor_id,leverandor,dtm_interpolationtype,dom_interpolationtype,potree_path,maxscale,maxscalehint,objektkatalog,eksterntnotat,laz_download_date,tif_download_date",
  "hasMultidimensions": false,
  "pixelSizeX": 10,
  "pixelSizeY": 10,
  "meanPixelSize": 10,
  "datasetFormat": "TIFF",
  "blockWidth": 256,
  "blockHeight": 256,
  "compressionType": "LZW",
  "bandNames": [
    "Band_1"
  ],
  "allowCopy": true,
  "allowAnalysis": true,
  "itemAccess": false,
  "inspectionCapabilities": "",
  "noDataValue": -3.4028234663852886E+38,
  "noDataValues": -3.4028234663852886E+38,
  "minPixelSize": 0.6614596562526459,
  "maxPixelSize": 21674.7100160867,
  "serviceSourceType": "esriImageServiceSourceTypeDataset",
  "objectIdField": "",
  "fields": [
    {
      "name": "OBJECTID",
      "type": "esriFieldTypeOID",
      "alias": "OBJECTID",
      "domain": null
    },
    {
      "name": "Shape",
      "type": "esriFieldTypeGeometry",
      "alias": "Shape",
      "domain": null
    },
    {
      "name": "Name",
      "type": "esriFieldTypeString",
      "alias": "Name",
      "domain": null,
      "length": 200
    },
    {
      "name": "MinPS",
      "type": "esriFieldTypeDouble",
      "alias": "MinPS",
      "domain": null
    },
    {
      "name": "MaxPS",
      "type": "esriFieldTypeDouble",
      "alias": "MaxPS",
      "domain": null
    },
    {
      "name": "LowPS",
      "type": "esriFieldTypeDouble",
      "alias": "LowPS",
      "domain": null
    },
    {
      "name": "HighPS",
      "type": "esriFieldTypeDouble",
      "alias": "HighPS",
      "domain": null
    },
    {
      "name": "Category",
      "type": "esriFieldTypeInteger",
      "alias": "Category",
      "domain": {
        "type": "codedValue",
        "name": "MosaicCatalogItemCategoryDomain",
        "description": "Catalog item categories.",
        "codedValues": [
          {
            "name": "Unknown",
            "code": 0
          },
          {
            "name": "Primary",
            "code": 1
          },
          {
            "name": "Overview",
            "code": 2
          },
          {
            "name": "Unprocessed Overview",
            "code": 3
          },
          {
            "name": "Partial Overview",
            "code": 4
          },
          {
            "name": "Inactive",
            "code": 5
          },
          {
            "name": "Uploaded",
            "code": 253
          },
          {
            "name": "Incomplete",
            "code": 254
          },
          {
            "name": "Custom",
            "code": 255
          }
        ],
        "mergePolicy": "esriMPTDefaultValue",
        "splitPolicy": "esriSPTDefaultValue"
      }
    },
    {
      "name": "Tag",
      "type": "esriFieldTypeString",
      "alias": "Tag",
      "domain": null,
      "length": 100
    },
    {
      "name": "GroupName",
      "type": "esriFieldTypeString",
      "alias": "GroupName",
      "domain": null,
      "length": 100
    },
    {
      "name": "ProductName",
      "type": "esriFieldTypeString",
      "alias": "ProductName",
      "domain": null,
      "length": 100
    },
    {
      "name": "CenterX",
      "type": "esriFieldTypeDouble",
      "alias": "CenterX",
      "domain": null
    },
    {
      "name": "CenterY",
      "type": "esriFieldTypeDouble",
      "alias": "CenterY",
      "domain": null
    },
    {
      "name": "ZOrder",
      "type": "esriFieldTypeInteger",
      "alias": "ZOrder",
      "domain": null
    },
    {
      "name": "Shape_Length",
      "type": "esriFieldTypeDouble",
      "alias": "Shape_Length",
      "domain": null
    },
    {
      "name": "Shape_Area",
      "type": "esriFieldTypeDouble",
      "alias": "Shape_Area",
      "domain": null
    }
  ],
  "capabilities": "Metadata",
  "defaultMosaicMethod": "Center",
  "allowedMosaicMethods": "",
  "sortField": "",
  "sortValue": null,
  "sortAscending": true,
  "mosaicOperator": "First",
  "maxDownloadSizeLimit": 2097196,
  "defaultCompressionQuality": 10000,
  "defaultResamplingMethod": "Nearest",
  "maxImageHeight": 15000,
  "maxImageWidth": 15000,
  "maxRecordCount": 1000,
  "maxDownloadImageCount": 20,
  "maxMosaicImageCount": 50,
  "singleFusedMapCache": true,
  "storageInfo": {
    "storageFormat": "esriMapCacheStorageModeCompactV2",
    "packetSize": 128
  },
  "cacheType": "Elevation",
  "allowRasterFunction": true,
  "rasterFunctionInfos": {
    "name": "None",
    "description": "",
    "help": ""
  },
  "rasterTypeInfos": [
    {
      "name": "Raster Dataset",
      "description": "Supports all ArcGIS Raster Datasets",
      "help": ""
    }
  ],
  "mensurationCapabilities": "Basic",
  "hasHistograms": true,
  "hasColormap": false,
  "hasRasterAttributeTable": false,
  "minScale": 81920000,
  "maxScale": 2500,
  "exportTilesAllowed": false,
  "maxExportTilesCount": 0,
  "supportsStatistics": false,
  "supportsAdvancedQueries": false,
  "editFieldsInfo": null,
  "ownershipBasedAccessControlForRasters": null,
  "allowComputeTiePoints": false,
  "useStandardizedQueries": true,
  "advancedQueryCapabilities": {
    "useStandardizedQueries": true,
    "supportsStatistics": false,
    "supportsOrderBy": false,
    "supportsDistinct": false,
    "supportsPagination": false
  },
  "tileInfo": {
    "rows": 256,
    "cols": 256,
    "dpi": 96,
    "format": "LERC",
    "compressionQuality": 0,
    "lercError": 0.05,
    "origin": {
      "x": -2500000,
      "y": 9045984
    },
    "spatialReference": {
      "wkid": 25833,
      "latestWkid": 25833
    },
    "lods": [
      {
        "level": 0,
        "resolution": 21674.7100160867,
        "scale": 81920000
      },
      {
        "level": 1,
        "resolution": 10837.35500804335,
        "scale": 40960000
      },
      {
        "level": 2,
        "resolution": 5418.677504021675,
        "scale": 20480000
      },
      {
        "level": 3,
        "resolution": 2709.3387520108377,
        "scale": 10240000
      },
      {
        "level": 4,
        "resolution": 1354.6693760054188,
        "scale": 5120000
      },
      {
        "level": 5,
        "resolution": 677.3346880027094,
        "scale": 2560000
      },
      {
        "level": 6,
        "resolution": 338.6673440013547,
        "scale": 1280000
      },
      {
        "level": 7,
        "resolution": 169.33367200067735,
        "scale": 640000
      },
      {
        "level": 8,
        "resolution": 84.66683600033868,
        "scale": 320000
      },
      {
        "level": 9,
        "resolution": 42.33341800016934,
        "scale": 160000
      },
      {
        "level": 10,
        "resolution": 21.16670900008467,
        "scale": 80000
      },
      {
        "level": 11,
        "resolution": 10.583354500042335,
        "scale": 40000
      },
      {
        "level": 12,
        "resolution": 5.291677250021167,
        "scale": 20000
      }
    ]
  },
  "spatialReference": {
    "wkid": 25833,
    "latestWkid": 25833
  },
  "serviceDescription": "GeocacheDybdedata",
  "description": "Sammenhengende modell av havbunn og land for norske kyst- og havområder langs fastlandet, cachet som høydetiles for bruk som grunnflate i 3D-scener. Dybdene er fra Kartverkets dybdemodeller (5, 25 og 50 m), med GEBCO der Kartverket ikke har data, og landet er fra terrengmodellen. Dybdene er regnet om til NN2000, samme høydereferanse som på land. Koordinatsystem: ETRS 1989 UTM Zone 33N (EPSG:25833). Dokumentasjon finnes <a href='https://dokumentasjon.geodataonline.no/servicename?geocachedybdedata' target='_blank'>her</a>.",
  "serviceDataType": "esriImageServiceDataTypeGeneric",
  "extent": {
    "xmin": -100210.0,
    "ymin": 6399800.0,
    "xmax": 1150200.0,
    "ymax": 7950210.0,
    "spatialReference": {
      "wkid": 25833,
      "latestWkid": 25833
    }
  },
  "initialExtent": {
    "xmin": -100210.0,
    "ymin": 6399800.0,
    "xmax": 1150200.0,
    "ymax": 7950210.0,
    "spatialReference": {
      "wkid": 25833,
      "latestWkid": 25833
    }
  },
  "fullExtent": {
    "xmin": -100210.0,
    "ymin": 6399800.0,
    "xmax": 1150200.0,
    "ymax": 7950210.0,
    "spatialReference": {
      "wkid": 25833,
      "latestWkid": 25833
    }
  },
  "copyrightText": "©️ Geodata AS, Kartverket, GEBCO Compilation Group, Geovekst og kommunene",
  "name": "Geocache_UTM33_EUREF89/GeocacheDybdedata",
  "arcgisProxyBuild": "172442"
}