View In: ArcGIS JavaScript ArcGIS Online Map Viewer
Service Description: Terrengskygge beregnet fra høydedata, ment å kombineres med andre bakgrunnskart for å fremheve terrengformer. Koordinatsystem: WGS 1984 Web Mercator Auxiliary Sphere (EPSG:3857).
Map Name: Layers
All Layers and Tables
Layers:
Description: Terrengskygge beregnet fra høydedata, ment å kombineres med andre bakgrunnskart for å fremheve terrengformer. Koordinatsystem: WGS 1984 Web Mercator Auxiliary Sphere (EPSG:3857).
Copyright Text: ©️ Geodata AS, Kartverket, Geovekst og kommunene, OpenStreetMap
Spatial Reference:
3857
(3857)
Single Fused Map Cache: true
Tile Info:
- Height: 256.0
- Width: 256.0
- DPI: 96.0
-
Levels of Detail: 19
-
Level ID: 0
[ Start Tile, End Tile ]
- Resolution: 156543.03392800014
- Scale: 591657527.591555
-
Level ID: 1
[ Start Tile, End Tile ]
- Resolution: 78271.51696399994
- Scale: 295828763.795777
-
Level ID: 2
[ Start Tile, End Tile ]
- Resolution: 39135.75848200009
- Scale: 147914381.897889
- Format: JPEG
- Compression Quality: 90.0
- Origin: X: -20037508.342787
Y: 20037508.342787
- Spatial Reference: 3857
(3857)
Storage Info:
- Storage Format: esriMapCacheStorageModeCompactV2
- Packet Size: 128
Initial Extent:
XMin: -15011632.537529169
YMin: 1511187.9094899949
XMax: 18351217.26822917
YMax: 31609056.913110003
Spatial Reference: 102100
(102100)
Full Extent:
XMin: -3339584.226
YMin: 2879272.8641999997
XMax: 6679168.956700001
YMax: 30240971.958400004
Spatial Reference: 102100
(102100)
Units: esriMeters
Supported Image Format Types: PNG32,PNG24,PNG,JPG,DIB,TIFF,EMF,PS,PDF,GIF,SVG,SVGZ,BMP
Document Info:
Title: GeocacheTerrengskygge
Author:
Comments: Terrengskygge beregnet fra høydedata, ment å kombineres med andre bakgrunnskart for å fremheve terrengformer. Koordinatsystem: WGS 1984 Web Mercator Auxiliary Sphere (EPSG:3857).
Subject: Terrengskygge beregnet fra høydedata, ment å kombineres med andre bakgrunnskart for å fremheve terrengformer. Koordinatsystem: WGS 1984 Web Mercator Auxiliary Sphere (EPSG:3857).
Category:
Version: 3.4.0
AntialiasingMode: Normal
TextAntialiasingMode: Force
Keywords: GeocacheTerrengskygge,Geocache,Basis,Bakgrunnskart
Supports Dynamic Layers: false
MaxRecordCount: 5000
MaxSelectionCount: 2000
MaxImageHeight: 4096
MaxImageWidth: 4096
Supported Query Formats: JSON, geoJSON, PBF
Supports Query Data Elements: true
Min Scale: 591657527.591555
Max Scale: 2256.994353
Supports Datum Transformation: true
Child Resources:
Info
Supported Operations:
Export Map
EstimateExportTilesSize
ExportTiles