{
  "currentVersion": 11.5,
  "cimVersion": "3.5.0",
  "serviceDescription": "Kart som viser innhold fra Nasjonal vegdatabank (NVDB). Koordinatsystem: ETRS 1989 UTM Zone 33N (EPSG:25833).",
  "arcgisProxyBuild": "172442",
  "mapName": "Layers",
  "description": "Kart som viser innhold fra Nasjonal vegdatabank (NVDB). Koordinatsystem: ETRS 1989 UTM Zone 33N (EPSG:25833).",
  "copyrightText": "NVDB, Geovekst, kommunene og Open Street Map contributors (utenfor Norge)",
  "supportsDynamicLayers": false,
  "layers": [
    {
      "id": 0,
      "name": "GeocacheTrafikkJPG",
      "parentLayerId": -1,
      "defaultVisibility": true,
      "subLayerIds": null,
      "minScale": 0,
      "maxScale": 0,
      "type": "Feature Layer",
      "geometryType": "esriGeometryPolygon",
      "supportsDynamicLegends": true
    }
  ],
  "tables": [],
  "spatialReference": {
    "wkid": 25833,
    "latestWkid": 25833,
    "xyTolerance": 0.001,
    "zTolerance": 0.001,
    "mTolerance": 0.001,
    "falseX": -5120900,
    "falseY": -9998100,
    "xyUnits": 10000,
    "falseZ": -100000,
    "zUnits": 10000,
    "falseM": -100000,
    "mUnits": 10000
  },
  "singleFusedMapCache": true,
  "tileInfo": {
    "rows": 256,
    "cols": 256,
    "dpi": 96,
    "format": "JPEG",
    "compressionQuality": 90,
    "origin": {
      "x": -2500000,
      "y": 9045984
    },
    "spatialReference": {
      "wkid": 25833,
      "latestWkid": 25833,
      "xyTolerance": 0.001,
      "zTolerance": 0.001,
      "mTolerance": 0.001,
      "falseX": -5120900,
      "falseY": -9998100,
      "xyUnits": 439642550.98961097,
      "falseZ": -100000,
      "zUnits": 10000,
      "falseM": -100000,
      "mUnits": 10000
    },
    "lods": [
      {
        "level": 0,
        "resolution": 21674.7100160867,
        "scale": 81920000
      },
      {
        "level": 1,
        "resolution": 10837.35500804335,
        "scale": 40960000
      },
      {
        "level": 2,
        "resolution": 5418.677504021675,
        "scale": 20480000
      },
      {
        "level": 3,
        "resolution": 2709.3387520108377,
        "scale": 10240000
      },
      {
        "level": 4,
        "resolution": 1354.6693760054188,
        "scale": 5120000
      },
      {
        "level": 5,
        "resolution": 677.3346880027094,
        "scale": 2560000
      },
      {
        "level": 6,
        "resolution": 338.6673440013547,
        "scale": 1280000
      },
      {
        "level": 7,
        "resolution": 169.33367200067735,
        "scale": 640000
      },
      {
        "level": 8,
        "resolution": 84.66683600033868,
        "scale": 320000
      },
      {
        "level": 9,
        "resolution": 42.33341800016934,
        "scale": 160000
      },
      {
        "level": 10,
        "resolution": 21.16670900008467,
        "scale": 80000
      },
      {
        "level": 11,
        "resolution": 10.583354500042335,
        "scale": 40000
      },
      {
        "level": 12,
        "resolution": 5.291677250021167,
        "scale": 20000
      },
      {
        "level": 13,
        "resolution": 2.6458386250105836,
        "scale": 10000
      },
      {
        "level": 14,
        "resolution": 1.3229193125052918,
        "scale": 5000
      },
      {
        "level": 15,
        "resolution": 0.6614596562526459,
        "scale": 2500
      },
      {
        "level": 16,
        "resolution": 0.33072982812632296,
        "scale": 1250
      }
    ]
  },
  "storageInfo": {
    "storageFormat": "esriMapCacheStorageModeCompactV2",
    "packetSize": 128
  },
  "minScale": 81920000.0,
  "maxScale": 1250.0,
  "initialExtent": {
    "xmin": -3011295.649465246,
    "ymin": 3146059.4048549985,
    "xmax": 4069263.210365247,
    "ymax": 10489451.158245005,
    "spatialReference": {
      "wkid": 25833,
      "latestWkid": 25833,
      "xyTolerance": 0.001,
      "zTolerance": 0.001,
      "mTolerance": 0.001,
      "falseX": -5120900,
      "falseY": -9998100,
      "xyUnits": 10000,
      "falseZ": -100000,
      "zUnits": 10000,
      "falseM": -100000,
      "mUnits": 10000
    }
  },
  "fullExtent": {
    "xmin": -3708422.0277,
    "ymin": 3479849.939099999,
    "xmax": 4766389.5886,
    "ymax": 10155660.624000002,
    "spatialReference": {
      "wkid": 25833,
      "latestWkid": 25833,
      "xyTolerance": 0.001,
      "zTolerance": 0.001,
      "mTolerance": 0.001,
      "falseX": -5120900,
      "falseY": -9998100,
      "xyUnits": 10000,
      "falseZ": -100000,
      "zUnits": 10000,
      "falseM": -100000,
      "mUnits": 10000
    }
  },
  "units": "esriMeters",
  "supportedImageFormatTypes": "PNG32,PNG24,PNG,JPG,DIB,TIFF,EMF,PS,PDF,GIF,SVG,SVGZ,BMP",
  "supportedQueryFormats": "JSON, geoJSON, PBF",
  "capabilities": "Map,Tilemap",
  "exportTilesAllowed": false,
  "maxRecordCount": 5000,
  "maxImageHeight": 4096,
  "maxImageWidth": 4096,
  "documentInfo": {
    "Title": "GeocacheTrafikkJPG",
    "Author": "",
    "Comments": "Kart som viser innhold fra Nasjonal vegdatabank (NVDB). Koordinatsystem: ETRS 1989 UTM Zone 33N (EPSG:25833).",
    "Subject": "Kart som viser innhold fra Nasjonal vegdatabank (NVDB). Koordinatsystem: ETRS 1989 UTM Zone 33N (EPSG:25833).",
    "Category": "",
    "Version": "3.4.0",
    "AntialiasingMode": "Normal",
    "TextAntialiasingMode": "Force",
    "Keywords": "nvdb,svv"
  }
}