{
  "currentVersion": 11.5,
  "cimVersion": "3.5.0",
  "serviceDescription": "Topografisk bakgrunnskart med livaktig kartografi som formidler natur og landskap. Dekker fastlands-Norge med høydeforhold, vann, arealdekke, veinett, bebyggelse og stedsnavn. Koordinatsystem: WGS 1984 Web Mercator Auxiliary Sphere (EPSG:3857).",
  "arcgisProxyBuild": "172442",
  "mapName": "Layers",
  "description": "Topografisk bakgrunnskart med livaktig kartografi som formidler natur og landskap. Dekker fastlands-Norge med høydeforhold, vann, arealdekke, veinett, bebyggelse og stedsnavn. Koordinatsystem: WGS 1984 Web Mercator Auxiliary Sphere (EPSG:3857).",
  "copyrightText": "©️ Geodata AS, Kartverket, Geovekst og kommunene, OpenStreetMap",
  "supportsDynamicLayers": false,
  "layers": [
    {
      "id": 0,
      "name": "GeocacheLandskap",
      "parentLayerId": -1,
      "defaultVisibility": true,
      "subLayerIds": null,
      "minScale": 0,
      "maxScale": 0,
      "type": "Feature Layer",
      "geometryType": "esriGeometryPolygon",
      "supportsDynamicLegends": true
    }
  ],
  "tables": [],
  "spatialReference": {
    "wkid": 102100,
    "latestWkid": 3857,
    "xyTolerance": 0.001,
    "zTolerance": 0.001,
    "mTolerance": 0.001,
    "falseX": -20037700,
    "falseY": -30241100,
    "xyUnits": 10000,
    "falseZ": -100000,
    "zUnits": 10000,
    "falseM": -100000,
    "mUnits": 10000
  },
  "singleFusedMapCache": true,
  "tileInfo": {
    "rows": 256,
    "cols": 256,
    "dpi": 96,
    "format": "JPEG",
    "compressionQuality": 90,
    "origin": {
      "x": -20037508.342787,
      "y": 20037508.342787
    },
    "spatialReference": {
      "wkid": 102100,
      "latestWkid": 3857,
      "xyTolerance": 0.001,
      "zTolerance": 0.001,
      "mTolerance": 0.001,
      "falseX": -20037700,
      "falseY": -30241100,
      "xyUnits": 148923141.92838538,
      "falseZ": -100000,
      "zUnits": 10000,
      "falseM": -100000,
      "mUnits": 10000
    },
    "lods": [
      {
        "level": 0,
        "resolution": 156543.03392800014,
        "scale": 591657527.591555
      },
      {
        "level": 1,
        "resolution": 78271.51696399994,
        "scale": 295828763.795777
      },
      {
        "level": 2,
        "resolution": 39135.75848200009,
        "scale": 147914381.897889
      },
      {
        "level": 3,
        "resolution": 19567.87924099992,
        "scale": 73957190.948944
      },
      {
        "level": 4,
        "resolution": 9783.93962049996,
        "scale": 36978595.474472
      },
      {
        "level": 5,
        "resolution": 4891.96981024998,
        "scale": 18489297.737236
      },
      {
        "level": 6,
        "resolution": 2445.98490512499,
        "scale": 9244648.868618
      },
      {
        "level": 7,
        "resolution": 1222.992452562495,
        "scale": 4622324.434309
      },
      {
        "level": 8,
        "resolution": 611.4962262813797,
        "scale": 2311162.217155
      },
      {
        "level": 9,
        "resolution": 305.74811314055756,
        "scale": 1155581.108577
      },
      {
        "level": 10,
        "resolution": 152.87405657041106,
        "scale": 577790.554289
      },
      {
        "level": 11,
        "resolution": 76.43702828507324,
        "scale": 288895.277144
      },
      {
        "level": 12,
        "resolution": 38.21851414253662,
        "scale": 144447.638572
      },
      {
        "level": 13,
        "resolution": 19.10925707126831,
        "scale": 72223.819286
      },
      {
        "level": 14,
        "resolution": 9.554628535634155,
        "scale": 36111.909643
      },
      {
        "level": 15,
        "resolution": 4.77731426794937,
        "scale": 18055.954822
      },
      {
        "level": 16,
        "resolution": 2.388657133974685,
        "scale": 9027.977411
      },
      {
        "level": 17,
        "resolution": 1.1943285668550503,
        "scale": 4513.988705
      },
      {
        "level": 18,
        "resolution": 0.5971642835598172,
        "scale": 2256.994353
      }
    ]
  },
  "storageInfo": {
    "storageFormat": "esriMapCacheStorageModeCompactV2",
    "packetSize": 128
  },
  "minScale": 591657527.591555,
  "maxScale": 2256.994353,
  "initialExtent": {
    "xmin": -15011632.537529169,
    "ymin": 1511187.9094899949,
    "xmax": 18351217.26822917,
    "ymax": 31609056.913110003,
    "spatialReference": {
      "cs": "pcs",
      "wkid": 102100
    }
  },
  "fullExtent": {
    "xmin": -3339584.226,
    "ymin": 2879272.8641999997,
    "xmax": 6679168.956700001,
    "ymax": 30240971.958400004,
    "spatialReference": {
      "cs": "pcs",
      "wkid": 102100
    }
  },
  "units": "esriMeters",
  "supportedImageFormatTypes": "PNG32,PNG24,PNG,JPG,DIB,TIFF,EMF,PS,PDF,GIF,SVG,SVGZ,BMP",
  "supportedQueryFormats": "JSON, geoJSON, PBF",
  "capabilities": "Map,Tilemap",
  "exportTilesAllowed": true,
  "maxRecordCount": 5000,
  "maxImageHeight": 4096,
  "maxImageWidth": 4096,
  "documentInfo": {
    "Title": "GeocacheLandskap",
    "Author": "",
    "Comments": "Topografisk bakgrunnskart med livaktig kartografi som formidler natur og landskap. Dekker fastlands-Norge med høydeforhold, vann, arealdekke, veinett, bebyggelse og stedsnavn. Koordinatsystem: WGS 1984 Web Mercator Auxiliary Sphere (EPSG:3857).",
    "Subject": "Topografisk bakgrunnskart med livaktig kartografi som formidler natur og landskap. Dekker fastlands-Norge med høydeforhold, vann, arealdekke, veinett, bebyggelse og stedsnavn. Koordinatsystem: WGS 1984 Web Mercator Auxiliary Sphere (EPSG:3857).",
    "Category": "",
    "Version": "3.4.0",
    "AntialiasingMode": "Normal",
    "TextAntialiasingMode": "Force",
    "Keywords": "GeocacheLandskap,Geocache,Landskap,Topografi"
  },
  "maxExportTilesCount": 1000000
}