{
  "currentVersion": 11.5,
  "cimVersion": "3.5.0",
  "serviceDescription": "Generelt basiskart i gråtoner med samferdsel, bebyggelse, høydeinformasjon, vann, stedsnavn og adresser. Egner seg som nøytral bakgrunn for andre geografiske data. Koordinatsystem: ETRS 1989 UTM Zone 35N (EPSG:25835).",
  "arcgisProxyBuild": "172442",
  "mapName": "Layers",
  "description": "Generelt basiskart i gråtoner med samferdsel, bebyggelse, høydeinformasjon, vann, stedsnavn og adresser. Egner seg som nøytral bakgrunn for andre geografiske data. Koordinatsystem: ETRS 1989 UTM Zone 35N (EPSG:25835).",
  "copyrightText": "©️ Geodata AS, Kartverket, Geovekst og kommunene, OpenStreetMap",
  "supportsDynamicLayers": false,
  "layers": [
    {
      "id": 0,
      "name": "GeocacheGråtone",
      "parentLayerId": -1,
      "defaultVisibility": true,
      "subLayerIds": null,
      "minScale": 0,
      "maxScale": 0,
      "type": "Feature Layer",
      "geometryType": "esriGeometryPolygon",
      "supportsDynamicLegends": true
    }
  ],
  "tables": [],
  "spatialReference": {
    "wkid": 25835,
    "latestWkid": 25835,
    "xyTolerance": 0.001,
    "zTolerance": 0.001,
    "mTolerance": 0.001,
    "falseX": -5120900,
    "falseY": -9998100,
    "xyUnits": 10000,
    "falseZ": -100000,
    "zUnits": 10000,
    "falseM": -100000,
    "mUnits": 10000
  },
  "singleFusedMapCache": true,
  "tileInfo": {
    "rows": 256,
    "cols": 256,
    "dpi": 96,
    "format": "PNG",
    "compressionQuality": 0,
    "origin": {
      "x": -3500000,
      "y": 9045984
    },
    "spatialReference": {
      "wkid": 25835,
      "latestWkid": 25835,
      "xyTolerance": 0.001,
      "zTolerance": 0.001,
      "mTolerance": 0.001,
      "falseX": -5120900,
      "falseY": -9998100,
      "xyUnits": 10000,
      "falseZ": -100000,
      "zUnits": 10000,
      "falseM": -100000,
      "mUnits": 10000
    },
    "lods": [
      {
        "level": 0,
        "resolution": 21674.7100160867,
        "scale": 81920000
      },
      {
        "level": 1,
        "resolution": 10837.35500804335,
        "scale": 40960000
      },
      {
        "level": 2,
        "resolution": 5418.677504021675,
        "scale": 20480000
      },
      {
        "level": 3,
        "resolution": 2709.3387520108377,
        "scale": 10240000
      },
      {
        "level": 4,
        "resolution": 1354.6693760054188,
        "scale": 5120000
      },
      {
        "level": 5,
        "resolution": 677.3346880027094,
        "scale": 2560000
      },
      {
        "level": 6,
        "resolution": 338.6673440013547,
        "scale": 1280000
      },
      {
        "level": 7,
        "resolution": 169.33367200067735,
        "scale": 640000
      },
      {
        "level": 8,
        "resolution": 84.66683600033868,
        "scale": 320000
      },
      {
        "level": 9,
        "resolution": 42.33341800016934,
        "scale": 160000
      },
      {
        "level": 10,
        "resolution": 21.16670900008467,
        "scale": 80000
      },
      {
        "level": 11,
        "resolution": 10.583354500042335,
        "scale": 40000
      },
      {
        "level": 12,
        "resolution": 5.291677250021167,
        "scale": 20000
      },
      {
        "level": 13,
        "resolution": 2.6458386250105836,
        "scale": 10000
      },
      {
        "level": 14,
        "resolution": 1.3229193125052918,
        "scale": 5000
      },
      {
        "level": 15,
        "resolution": 0.6614596562526459,
        "scale": 2500
      },
      {
        "level": 16,
        "resolution": 0.33072982812632296,
        "scale": 1250
      },
      {
        "level": 17,
        "resolution": 0.16536491406316148,
        "scale": 625
      }
    ]
  },
  "storageInfo": {
    "storageFormat": "esriMapCacheStorageModeCompactV2",
    "packetSize": 128
  },
  "minScale": 81920000.0,
  "maxScale": 625.0,
  "initialExtent": {
    "xmin": -4737777.01996,
    "ymin": 2607227.6962103266,
    "xmax": 3987518.61976,
    "ymax": 10478641.760389674,
    "spatialReference": {
      "wkid": 25835,
      "latestWkid": 25835,
      "xyTolerance": 0.001,
      "zTolerance": 0.001,
      "mTolerance": 0.001,
      "falseX": -5120900,
      "falseY": -9998100,
      "xyUnits": 10000,
      "falseZ": -100000,
      "zUnits": 10000,
      "falseM": -100000,
      "mUnits": 10000
    }
  },
  "fullExtent": {
    "xmin": -4341172.6727,
    "ymin": 3087905.491800001,
    "xmax": 3590914.272500001,
    "ymax": 9997963.9648,
    "spatialReference": {
      "wkid": 25835,
      "latestWkid": 25835,
      "xyTolerance": 0.001,
      "zTolerance": 0.001,
      "mTolerance": 0.001,
      "falseX": -5120900,
      "falseY": -9998100,
      "xyUnits": 10000,
      "falseZ": -100000,
      "zUnits": 10000,
      "falseM": -100000,
      "mUnits": 10000
    }
  },
  "units": "esriMeters",
  "supportedImageFormatTypes": "PNG32,PNG24,PNG,JPG,DIB,TIFF,EMF,PS,PDF,GIF,SVG,SVGZ,BMP",
  "supportedQueryFormats": "JSON, geoJSON, PBF",
  "capabilities": "Map,Tilemap",
  "exportTilesAllowed": true,
  "maxRecordCount": 5000,
  "maxImageHeight": 4096,
  "maxImageWidth": 4096,
  "documentInfo": {
    "Title": "GeocacheGråtone",
    "Author": "",
    "Comments": "Generelt basiskart i gråtoner med samferdsel, bebyggelse, høydeinformasjon, vann, stedsnavn og adresser. Egner seg som nøytral bakgrunn for andre geografiske data. Koordinatsystem: ETRS 1989 UTM Zone 35N (EPSG:25835).",
    "Subject": "Generelt basiskart i gråtoner med samferdsel, bebyggelse, høydeinformasjon, vann, stedsnavn og adresser. Egner seg som nøytral bakgrunn for andre geografiske data. Koordinatsystem: ETRS 1989 UTM Zone 35N (EPSG:25835).",
    "Category": "",
    "Version": "3.4.0",
    "AntialiasingMode": "Normal",
    "TextAntialiasingMode": "Force",
    "Keywords": "GeocacheGråtone,Geocache,Gråtone,bakgrunnskart"
  },
  "maxExportTilesCount": 1000000
}