<Capabilities xmlns:ows="http://www.opengis.net/ows/1.1" xmlns:xlink="http://www.w3.org/1999/xlink" xmlns:xsi="http://www.w3.org/2001/XMLSchema-instance" xmlns:gml="http://www.opengis.net/gml" xsi:schemaLocation="http://www.opengis.net/wmts/1.0 http://schemas.opengis.net/wmts/1.0/wmtsGetCapabilities_response.xsd" version="1.0.0" xmlns="http://www.opengis.net/wmts/1.0">
  <ows:ServiceIdentification>
    <ows:Title>Geocache_UTM33_WGS84_GeocacheTerrengskygge</ows:Title>
    <ows:ServiceType>OGC WMTS</ows:ServiceType>
    <ows:ServiceTypeVersion>1.0.0</ows:ServiceTypeVersion>
  </ows:ServiceIdentification>
  <ows:OperationsMetadata>
    <ows:Operation name="GetCapabilities">
      <ows:DCP>
        <ows:HTTP>
          <ows:Get xlink:href="https://gdo-test.geodataonline.no/arcgis/rest/services/Geocache_UTM33_WGS84/GeocacheTerrengskygge/MapServer/WMTS/1.0.0/WMTSCapabilities.xml">
            <ows:Constraint name="GetEncoding">
              <ows:AllowedValues>
                <ows:Value>RESTful</ows:Value>
              </ows:AllowedValues>
            </ows:Constraint>
          </ows:Get>
          <ows:Get xlink:href="https://gdo-test.geodataonline.no/arcgis/rest/services/Geocache_UTM33_WGS84/GeocacheTerrengskygge/MapServer/WMTS?">
            <ows:Constraint name="GetEncoding">
              <ows:AllowedValues>
                <ows:Value>KVP</ows:Value>
              </ows:AllowedValues>
            </ows:Constraint>
          </ows:Get>
        </ows:HTTP>
      </ows:DCP>
    </ows:Operation>
    <ows:Operation name="GetTile">
      <ows:DCP>
        <ows:HTTP>
          <ows:Get xlink:href="https://gdo-test.geodataonline.no/arcgis/rest/services/Geocache_UTM33_WGS84/GeocacheTerrengskygge/MapServer/WMTS/tile/1.0.0/">
            <ows:Constraint name="GetEncoding">
              <ows:AllowedValues>
                <ows:Value>RESTful</ows:Value>
              </ows:AllowedValues>
            </ows:Constraint>
          </ows:Get>
          <ows:Get xlink:href="https://gdo-test.geodataonline.no/arcgis/rest/services/Geocache_UTM33_WGS84/GeocacheTerrengskygge/MapServer/WMTS?">
            <ows:Constraint name="GetEncoding">
              <ows:AllowedValues>
                <ows:Value>KVP</ows:Value>
              </ows:AllowedValues>
            </ows:Constraint>
          </ows:Get>
        </ows:HTTP>
      </ows:DCP>
    </ows:Operation>
  </ows:OperationsMetadata>
  <Contents>
    <Layer>
      <ows:Title>Geocache_UTM33_WGS84_GeocacheTerrengskygge</ows:Title>
      <ows:Identifier>Geocache_UTM33_WGS84_GeocacheTerrengskygge</ows:Identifier>
      <ows:BoundingBox crs="urn:ogc:def:crs:EPSG::32633">
        <ows:LowerCorner>-3708422.0277 3479849.939099999</ows:LowerCorner>
        <ows:UpperCorner>4766389.5886 9997963.943</ows:UpperCorner>
      </ows:BoundingBox>
      <ows:WGS84BoundingBox crs="urn:ogc:def:crs:OGC:2:84">
        <ows:LowerCorner>-29.9999905552345 25.0287218118985</ows:LowerCorner>
        <ows:UpperCorner>59.9999955900741 89.9999910433616</ows:UpperCorner>
      </ows:WGS84BoundingBox>
      <Style isDefault="true">
        <ows:Title>Default Style</ows:Title>
        <ows:Identifier>default</ows:Identifier>
      </Style>
      <Format>image/jpeg</Format>
      <TileMatrixSetLink>
        <TileMatrixSet>default028mm</TileMatrixSet>
      </TileMatrixSetLink>
      <ResourceURL format="image/jpeg" resourceType="tile" template="https://gdo-test.geodataonline.no/arcgis/rest/services/Geocache_UTM33_WGS84/GeocacheTerrengskygge/MapServer/WMTS/tile/1.0.0/Geocache_UTM33_WGS84_GeocacheTerrengskygge/{Style}/{TileMatrixSet}/{TileMatrix}/{TileRow}/{TileCol}.jpg" />
    </Layer>
    <TileMatrixSet>
      <ows:Title>TileMatrix using 0.28mm</ows:Title>
      <ows:Abstract>The tile matrix set that has scale values calculated based on the dpi defined by OGC specification (dpi assumes 0.28mm as the physical distance of a pixel).</ows:Abstract>
      <ows:Identifier>default028mm</ows:Identifier>
      <ows:SupportedCRS>urn:ogc:def:crs:EPSG::32633</ows:SupportedCRS>
      <TileMatrix>
        <ows:Identifier>0</ows:Identifier>
        <ScaleDenominator>77409678.62888108</ScaleDenominator>
        <TopLeftCorner>-2500000 9045984</TopLeftCorner>
        <TileWidth>256</TileWidth>
        <TileHeight>256</TileHeight>
        <MatrixWidth>2</MatrixWidth>
        <MatrixHeight>2</MatrixHeight>
      </TileMatrix>
      <TileMatrix>
        <ows:Identifier>1</ows:Identifier>
        <ScaleDenominator>38704839.31444054</ScaleDenominator>
        <TopLeftCorner>-2500000 9045984</TopLeftCorner>
        <TileWidth>256</TileWidth>
        <TileHeight>256</TileHeight>
        <MatrixWidth>3</MatrixWidth>
        <MatrixHeight>3</MatrixHeight>
      </TileMatrix>
      <TileMatrix>
        <ows:Identifier>2</ows:Identifier>
        <ScaleDenominator>19352419.65722027</ScaleDenominator>
        <TopLeftCorner>-2500000 9045984</TopLeftCorner>
        <TileWidth>256</TileWidth>
        <TileHeight>256</TileHeight>
        <MatrixWidth>6</MatrixWidth>
        <MatrixHeight>5</MatrixHeight>
      </TileMatrix>
      <TileMatrix>
        <ows:Identifier>3</ows:Identifier>
        <ScaleDenominator>9676209.828610135</ScaleDenominator>
        <TopLeftCorner>-2500000 9045984</TopLeftCorner>
        <TileWidth>256</TileWidth>
        <TileHeight>256</TileHeight>
        <MatrixWidth>11</MatrixWidth>
        <MatrixHeight>9</MatrixHeight>
      </TileMatrix>
      <TileMatrix>
        <ows:Identifier>4</ows:Identifier>
        <ScaleDenominator>4838104.914305068</ScaleDenominator>
        <TopLeftCorner>-2500000 9045984</TopLeftCorner>
        <TileWidth>256</TileWidth>
        <TileHeight>256</TileHeight>
        <MatrixWidth>21</MatrixWidth>
        <MatrixHeight>17</MatrixHeight>
      </TileMatrix>
      <TileMatrix>
        <ows:Identifier>5</ows:Identifier>
        <ScaleDenominator>2419052.457152534</ScaleDenominator>
        <TopLeftCorner>-2500000 9045984</TopLeftCorner>
        <TileWidth>256</TileWidth>
        <TileHeight>256</TileHeight>
        <MatrixWidth>42</MatrixWidth>
        <MatrixHeight>33</MatrixHeight>
      </TileMatrix>
      <TileMatrix>
        <ows:Identifier>6</ows:Identifier>
        <ScaleDenominator>1209526.228576267</ScaleDenominator>
        <TopLeftCorner>-2500000 9045984</TopLeftCorner>
        <TileWidth>256</TileWidth>
        <TileHeight>256</TileHeight>
        <MatrixWidth>84</MatrixWidth>
        <MatrixHeight>65</MatrixHeight>
      </TileMatrix>
      <TileMatrix>
        <ows:Identifier>7</ows:Identifier>
        <ScaleDenominator>604763.1142881335</ScaleDenominator>
        <TopLeftCorner>-2500000 9045984</TopLeftCorner>
        <TileWidth>256</TileWidth>
        <TileHeight>256</TileHeight>
        <MatrixWidth>168</MatrixWidth>
        <MatrixHeight>129</MatrixHeight>
      </TileMatrix>
      <TileMatrix>
        <ows:Identifier>8</ows:Identifier>
        <ScaleDenominator>302381.5571440667</ScaleDenominator>
        <TopLeftCorner>-2500000 9045984</TopLeftCorner>
        <TileWidth>256</TileWidth>
        <TileHeight>256</TileHeight>
        <MatrixWidth>336</MatrixWidth>
        <MatrixHeight>257</MatrixHeight>
      </TileMatrix>
      <TileMatrix>
        <ows:Identifier>9</ows:Identifier>
        <ScaleDenominator>151190.77857203336</ScaleDenominator>
        <TopLeftCorner>-2500000 9045984</TopLeftCorner>
        <TileWidth>256</TileWidth>
        <TileHeight>256</TileHeight>
        <MatrixWidth>671</MatrixWidth>
        <MatrixHeight>514</MatrixHeight>
      </TileMatrix>
      <TileMatrix>
        <ows:Identifier>10</ows:Identifier>
        <ScaleDenominator>75595.38928601668</ScaleDenominator>
        <TopLeftCorner>-2500000 9045984</TopLeftCorner>
        <TileWidth>256</TileWidth>
        <TileHeight>256</TileHeight>
        <MatrixWidth>1341</MatrixWidth>
        <MatrixHeight>1028</MatrixHeight>
      </TileMatrix>
      <TileMatrix>
        <ows:Identifier>11</ows:Identifier>
        <ScaleDenominator>37797.69464300834</ScaleDenominator>
        <TopLeftCorner>-2500000 9045984</TopLeftCorner>
        <TileWidth>256</TileWidth>
        <TileHeight>256</TileHeight>
        <MatrixWidth>2682</MatrixWidth>
        <MatrixHeight>2055</MatrixHeight>
      </TileMatrix>
      <TileMatrix>
        <ows:Identifier>12</ows:Identifier>
        <ScaleDenominator>18898.84732150417</ScaleDenominator>
        <TopLeftCorner>-2500000 9045984</TopLeftCorner>
        <TileWidth>256</TileWidth>
        <TileHeight>256</TileHeight>
        <MatrixWidth>5364</MatrixWidth>
        <MatrixHeight>4109</MatrixHeight>
      </TileMatrix>
      <TileMatrix>
        <ows:Identifier>13</ows:Identifier>
        <ScaleDenominator>9449.423660752085</ScaleDenominator>
        <TopLeftCorner>-2500000 9045984</TopLeftCorner>
        <TileWidth>256</TileWidth>
        <TileHeight>256</TileHeight>
        <MatrixWidth>10728</MatrixWidth>
        <MatrixHeight>8218</MatrixHeight>
      </TileMatrix>
      <TileMatrix>
        <ows:Identifier>14</ows:Identifier>
        <ScaleDenominator>4724.711830376043</ScaleDenominator>
        <TopLeftCorner>-2500000 9045984</TopLeftCorner>
        <TileWidth>256</TileWidth>
        <TileHeight>256</TileHeight>
        <MatrixWidth>21456</MatrixWidth>
        <MatrixHeight>16436</MatrixHeight>
      </TileMatrix>
      <TileMatrix>
        <ows:Identifier>15</ows:Identifier>
        <ScaleDenominator>2362.3559151880213</ScaleDenominator>
        <TopLeftCorner>-2500000 9045984</TopLeftCorner>
        <TileWidth>256</TileWidth>
        <TileHeight>256</TileHeight>
        <MatrixWidth>42912</MatrixWidth>
        <MatrixHeight>32871</MatrixHeight>
      </TileMatrix>
      <TileMatrix>
        <ows:Identifier>16</ows:Identifier>
        <ScaleDenominator>1181.1779575940106</ScaleDenominator>
        <TopLeftCorner>-2500000 9045984</TopLeftCorner>
        <TileWidth>256</TileWidth>
        <TileHeight>256</TileHeight>
        <MatrixWidth>85824</MatrixWidth>
        <MatrixHeight>65742</MatrixHeight>
      </TileMatrix>
    </TileMatrixSet>
  </Contents>
  <ServiceMetadataURL xlink:href="https://gdo-test.geodataonline.no/arcgis/rest/services/Geocache_UTM33_WGS84/GeocacheTerrengskygge/MapServer/WMTS/1.0.0/WMTSCapabilities.xml" />
</Capabilities>